BEGIN:VCALENDAR
VERSION:2.0
PRODID:-//Comunhão Espírita de Brasília - ECPv6.15.20//NONSGML v1.0//EN
CALSCALE:GREGORIAN
METHOD:PUBLISH
X-WR-CALNAME:Comunhão Espírita de Brasília
X-ORIGINAL-URL:https://comunhaoespirita.org.br/portal
X-WR-CALDESC:Eventos para Comunhão Espírita de Brasília
REFRESH-INTERVAL;VALUE=DURATION:PT1H
X-Robots-Tag:noindex
X-PUBLISHED-TTL:PT1H
BEGIN:VTIMEZONE
TZID:America/Sao_Paulo
BEGIN:STANDARD
TZOFFSETFROM:-0300
TZOFFSETTO:-0300
TZNAME:-03
DTSTART:20250101T000000
END:STANDARD
END:VTIMEZONE
BEGIN:VEVENT
DTSTART;TZID=America/Sao_Paulo:20260426T170000
DTEND;TZID=America/Sao_Paulo:20260426T180000
DTSTAMP:20260425T232443
CREATED:20230705T200803Z
LAST-MODIFIED:20260421T023659Z
UID:20312-1777222800-1777226400@comunhaoespirita.org.br
SUMMARY:Harmonização Ambiental: Luiz Gonzaga
DESCRIPTION:Harmonização Ambiental: João Mendes
URL:https://comunhaoespirita.org.br/portal/palestra-ou-evento/harmonizacao-ambiental-joao-mendes-2/
LOCATION:Evento Presencial – Auditório Bezerra de Menezes e Youtube da Comunhão\, Avenida L 2 Sul\, Quadra 604 Conjunto E\, SGAS\, Asa Sul Brasília-DF\, Brasília\, DF\, 70200640\, Brasil
CATEGORIES:Harmonização Ambiental
END:VEVENT
BEGIN:VEVENT
DTSTART;TZID=America/Sao_Paulo:20260426T173000
DTEND;TZID=America/Sao_Paulo:20260426T180000
DTSTAMP:20260425T232443
CREATED:20210803T182231Z
LAST-MODIFIED:20260421T023707Z
UID:8615-1777224600-1777226400@comunhaoespirita.org.br
SUMMARY:Grupo de Irradiação Francisco de Assis
DESCRIPTION:A Comunhão Espírita realiza\, de segunda a domingo\, a prece de irradiação do Grupo Francisco de Assis. Nesta prece\, vibrações superiores são enviadas a todos os necessitados do planeta\, sempre após a leitura e o comentário do Evangelho pela equipe do grupo.\nA prece de irradiação é realizada virtualmente\, por meio do canal da Comunhão no YouTube e pelo Facebook.\nDomingo a sexta\, às 17h30\, e sábado\, às 18h30. \n#comunhaoespirita #comunhaoespiritadebrasilia #gifa #grupodeirradiacao
URL:https://comunhaoespirita.org.br/portal/palestra-ou-evento/grupo-de-irradiacao-francisco-de-assis-10/
LOCATION:Evento Virtual – Assista no Youtube da Comunhão
CATEGORIES:Grupo de Irradiação Francisco de Assis
ATTACH;FMTTYPE=image/jpeg:https://comunhaoespirita.org.br/portal/wp-content/uploads/2021/07/WhatsApp-Image-2024-11-14-at-11.09.06.jpeg
END:VEVENT
BEGIN:VEVENT
DTSTART;TZID=America/Sao_Paulo:20260426T180000
DTEND;TZID=America/Sao_Paulo:20260426T185000
DTSTAMP:20260425T232443
CREATED:20220224T154636Z
LAST-MODIFIED:20260421T023730Z
UID:12392-1777226400-1777229400@comunhaoespirita.org.br
SUMMARY:Prece aos suicidas | Tempo de Confiança
DESCRIPTION:Palestrante: Sérgio Castro\nDirigente: Adolfo Marques \n#comunhao #comunhaoespirita #comunhaoespiritadebrasilia #palestraespirita
URL:https://comunhaoespirita.org.br/portal/palestra-ou-evento/prece-aos-suicidas-perda-de-entes-queridos/
LOCATION:Evento Presencial – Auditório Bezerra de Menezes e Youtube da Comunhão\, Avenida L 2 Sul\, Quadra 604 Conjunto E\, SGAS\, Asa Sul Brasília-DF\, Brasília\, DF\, 70200640\, Brasil
CATEGORIES:Preces aos Suicidas
END:VEVENT
BEGIN:VEVENT
DTSTART;TZID=America/Sao_Paulo:20260427T080000
DTEND;TZID=America/Sao_Paulo:20260427T084000
DTSTAMP:20260425T232443
CREATED:20250414T121445Z
LAST-MODIFIED:20260421T023905Z
UID:27094-1777276800-1777279200@comunhaoespirita.org.br
SUMMARY:Palestra | Qual é o Verdadeiro Sentido da Palavra Caridade?
DESCRIPTION:Palestrante: Adolfo Marques\nDirigente: Anete Vidal\n\n#comunhao #comunhaoespirita #comunhaoespiritadebrasilia #palestraespirita
URL:https://comunhaoespirita.org.br/portal/palestra-ou-evento/palestra-o-reflexo-do-pensamento/
LOCATION:Evento Presencial – Auditório Bezerra de Menezes e Youtube da Comunhão\, Avenida L 2 Sul\, Quadra 604 Conjunto E\, SGAS\, Asa Sul Brasília-DF\, Brasília\, DF\, 70200640\, Brasil
CATEGORIES:Palestras
ATTACH;FMTTYPE=image/png:https://comunhaoespirita.org.br/portal/wp-content/uploads/2025/04/THUMB.png
END:VEVENT
BEGIN:VEVENT
DTSTART;TZID=America/Sao_Paulo:20260427T120000
DTEND;TZID=America/Sao_Paulo:20260427T123000
DTSTAMP:20260425T232443
CREATED:20250414T123520Z
LAST-MODIFIED:20260421T023913Z
UID:27113-1777291200-1777293000@comunhaoespirita.org.br
SUMMARY:Grupo de Harmonização Chico Xavier
DESCRIPTION:Conheça o nosso Grupo de Harmonização Chico Xavier! Convidamos você para um breve momento de reflexão e agradecimento\, seguido do Passe Virtual.\nDe segunda a sexta\, às 12 h\, no nosso Canal do YouTube! Esperamos você! 😉 \n#comunhaoespiritadebrasilia #harmonizacao #espiritismo #comunhaoespirita
URL:https://comunhaoespirita.org.br/portal/palestra-ou-evento/grupo-de-harmonizacao-chico-xavier-48/
LOCATION:Evento Virtual – Assista no Youtube da Comunhão
CATEGORIES:Grupo de Harmonização Chico Xavier
ATTACH;FMTTYPE=image/png:https://comunhaoespirita.org.br/portal/wp-content/uploads/2025/04/GHCX-Thumb.png
END:VEVENT
BEGIN:VEVENT
DTSTART;TZID=America/Sao_Paulo:20260427T130000
DTEND;TZID=America/Sao_Paulo:20260427T133000
DTSTAMP:20260425T232443
CREATED:20250414T121619Z
LAST-MODIFIED:20260421T023938Z
UID:27098-1777294800-1777296600@comunhaoespirita.org.br
SUMMARY:Palestra | Coerência entre Pensamento e Ação
DESCRIPTION:Palestrante: Christina Barretto\n\n#comunhao #comunhaoespirita #comunhaoespiritadebrasilia #palestraespirita
URL:https://comunhaoespirita.org.br/portal/palestra-ou-evento/palestra-oracao-alimento-da-alma/
LOCATION:Evento Presencial – Auditório Bezerra de Menezes e Youtube da Comunhão\, Avenida L 2 Sul\, Quadra 604 Conjunto E\, SGAS\, Asa Sul Brasília-DF\, Brasília\, DF\, 70200640\, Brasil
CATEGORIES:Palestras
ATTACH;FMTTYPE=image/png:https://comunhaoespirita.org.br/portal/wp-content/uploads/2025/04/THUMB.png
END:VEVENT
BEGIN:VEVENT
DTSTART;TZID=America/Sao_Paulo:20260427T160000
DTEND;TZID=America/Sao_Paulo:20260427T164000
DTSTAMP:20260425T232443
CREATED:20250414T121748Z
LAST-MODIFIED:20260421T023955Z
UID:27101-1777305600-1777308000@comunhaoespirita.org.br
SUMMARY:Palestra | Parábola do Avarento
DESCRIPTION:Palestrante: Sérgio da Fonseca\nDirigente: Sérgio da Fonseca\n\n#comunhao #comunhaoespirita #comunhaoespiritadebrasilia #palestraespirita
URL:https://comunhaoespirita.org.br/portal/palestra-ou-evento/palestra-preconceito-e-discriminacao-sob-a-perspectiva-espirita/
LOCATION:Evento Presencial – Auditório Bezerra de Menezes e Youtube da Comunhão\, Avenida L 2 Sul\, Quadra 604 Conjunto E\, SGAS\, Asa Sul Brasília-DF\, Brasília\, DF\, 70200640\, Brasil
CATEGORIES:Palestras
ATTACH;FMTTYPE=image/png:https://comunhaoespirita.org.br/portal/wp-content/uploads/2025/04/THUMB.png
END:VEVENT
BEGIN:VEVENT
DTSTART;TZID=America/Sao_Paulo:20260427T173000
DTEND;TZID=America/Sao_Paulo:20260427T174500
DTSTAMP:20260425T232443
CREATED:20250414T123054Z
LAST-MODIFIED:20260421T024002Z
UID:27110-1777311000-1777311900@comunhaoespirita.org.br
SUMMARY:Grupo de Irradiação Francisco de Assis
DESCRIPTION:A Comunhão Espírita realiza\, de segunda a domingo\, a prece de irradiação do Grupo Francisco de Assis. Nesta prece\, vibrações superiores são enviadas a todos os necessitados do planeta\, sempre após a leitura e o comentário do Evangelho pela equipe do grupo. A Comunhão permanece fechada parcialmente\, seguindo decreto governamental e a prece de irradiação é realizada virtualmente.\nAcompanhe\, diariamente\, através de nossos canais.\nDomingo a sexta-feira às 17h30 e sábado às 18h30.
URL:https://comunhaoespirita.org.br/portal/palestra-ou-evento/grupo-de-irradiacao-francisco-de-assis-66/
LOCATION:Evento Virtual – Assista no Youtube da Comunhão
CATEGORIES:Grupo de Irradiação Francisco de Assis
ATTACH;FMTTYPE=image/png:https://comunhaoespirita.org.br/portal/wp-content/uploads/2025/04/GIFA-THUMBNAIL.png
END:VEVENT
BEGIN:VEVENT
DTSTART;TZID=America/Sao_Paulo:20260427T180000
DTEND;TZID=America/Sao_Paulo:20260427T184000
DTSTAMP:20260425T232443
CREATED:20250414T122221Z
LAST-MODIFIED:20260421T024017Z
UID:27104-1777312800-1777315200@comunhaoespirita.org.br
SUMMARY:Palestra | O Caminho para a Felicidade
DESCRIPTION:Palestrante: Ricardo Honório\nDirigente: Wagner Alberto\n\n#comunhao #comunhaoespirita #comunhaoespiritadebrasilia #palestraespirita
URL:https://comunhaoespirita.org.br/portal/palestra-ou-evento/palestra-amai-vossos-inimigos/
LOCATION:Evento Presencial – Auditório Bezerra de Menezes e Youtube da Comunhão\, Avenida L 2 Sul\, Quadra 604 Conjunto E\, SGAS\, Asa Sul Brasília-DF\, Brasília\, DF\, 70200640\, Brasil
CATEGORIES:Palestras
ATTACH;FMTTYPE=image/png:https://comunhaoespirita.org.br/portal/wp-content/uploads/2025/04/THUMB.png
END:VEVENT
BEGIN:VEVENT
DTSTART;TZID=America/Sao_Paulo:20260427T200000
DTEND;TZID=America/Sao_Paulo:20260427T210000
DTSTAMP:20260425T232443
CREATED:20250414T122728Z
LAST-MODIFIED:20260421T024038Z
UID:27107-1777320000-1777323600@comunhaoespirita.org.br
SUMMARY:Palestra | Tema a definir
DESCRIPTION:Palestrante: Germana Carsten\nDirigente: João Abadio \n\n#comunhao #comunhaoespirita #comunhaoespiritadebrasilia #palestraespirita
URL:https://comunhaoespirita.org.br/portal/palestra-ou-evento/palestra-jesus-e-coragem/
LOCATION:Evento Presencial – Auditório Bezerra de Menezes e Youtube da Comunhão\, Avenida L 2 Sul\, Quadra 604 Conjunto E\, SGAS\, Asa Sul Brasília-DF\, Brasília\, DF\, 70200640\, Brasil
CATEGORIES:Palestras
ATTACH;FMTTYPE=image/png:https://comunhaoespirita.org.br/portal/wp-content/uploads/2025/04/THUMB.png
END:VEVENT
END:VCALENDAR